git_url: https://git.bioconductor.org/packages/GSCA git_branch: RELEASE_3_13 git_last_commit: 24c5884 git_last_commit_date: 2021-05-19 12:02:57 -0400 (Wed, 19 May 2021) Package: GSCA Version: 2.22.0 Maintainer: Zhicheng Ji MaintainerEmail: zji4 at jhu.edu