Package: GSAR Version: 1.26.0 Command: rm -rf GSAR.buildbin-libdir && mkdir GSAR.buildbin-libdir && C:\Users\biocbuild\bbs-3.13-bioc\R\bin\R.exe CMD INSTALL --merge-multiarch --build --library=GSAR.buildbin-libdir GSAR_1.26.0.tar.gz StartedAt: 2021-10-15 09:42:27 -0400 (Fri, 15 Oct 2021) EndedAt: 2021-10-15 09:43:42 -0400 (Fri, 15 Oct 2021) EllapsedTime: 75.5 seconds RetCode: 0 Status: OK PackageFile: GSAR_1.26.0.zip PackageFileSize: 3.583 MiB