Package: GSAR Version: 1.26.0 Command: /home/biocbuild/bbs-3.13-bioc/R/bin/R CMD INSTALL GSAR StartedAt: 2021-10-14 06:11:00 -0400 (Thu, 14 Oct 2021) EndedAt: 2021-10-14 06:11:02 -0400 (Thu, 14 Oct 2021) EllapsedTime: 2.6 seconds RetCode: 0 Status: OK