Package: GSAR Version: 1.26.0 Command: /Library/Frameworks/R.framework/Versions/Current/Resources/bin/R CMD check --install=check:GSAR.install-out.txt --library=/Library/Frameworks/R.framework/Versions/Current/Resources/library --no-vignettes --timings GSAR_1.26.0.tar.gz StartedAt: 2021-10-14 19:47:32 -0400 (Thu, 14 Oct 2021) EndedAt: 2021-10-14 19:48:41 -0400 (Thu, 14 Oct 2021) EllapsedTime: 69.2 seconds RetCode: 0 Status: OK CheckDir: GSAR.Rcheck Warnings: 0