Package: GRmetrics Version: 1.18.0 Command: C:\Users\biocbuild\bbs-3.13-bioc\R\bin\R.exe CMD check --force-multiarch --install=check:GRmetrics.install-out.txt --library=C:\Users\biocbuild\bbs-3.13-bioc\R\library --no-vignettes --timings GRmetrics_1.18.0.tar.gz StartedAt: 2021-10-15 00:05:44 -0400 (Fri, 15 Oct 2021) EndedAt: 2021-10-15 00:09:34 -0400 (Fri, 15 Oct 2021) EllapsedTime: 229.7 seconds RetCode: 0 Status: OK CheckDir: GRmetrics.Rcheck Warnings: 0