Package: GRmetrics Version: 1.18.0 Command: chmod a+r GRmetrics -R && C:\Users\biocbuild\bbs-3.13-bioc\R\bin\R.exe CMD build --keep-empty-dirs --no-resave-data GRmetrics StartedAt: 2021-10-14 14:40:42 -0400 (Thu, 14 Oct 2021) EndedAt: 2021-10-14 14:42:02 -0400 (Thu, 14 Oct 2021) EllapsedTime: 80.3 seconds RetCode: 0 Status: OK PackageFile: GRmetrics_1.18.0.tar.gz PackageFileSize: 1.574 MiB