Package: GRmetrics Version: 1.18.0 Command: rm -rf GRmetrics.buildbin-libdir && mkdir GRmetrics.buildbin-libdir && C:\Users\biocbuild\bbs-3.13-bioc\R\bin\R.exe CMD INSTALL --merge-multiarch --build --library=GRmetrics.buildbin-libdir GRmetrics_1.18.0.tar.gz StartedAt: 2021-10-15 09:41:54 -0400 (Fri, 15 Oct 2021) EndedAt: 2021-10-15 09:43:07 -0400 (Fri, 15 Oct 2021) EllapsedTime: 73.3 seconds RetCode: 0 Status: OK PackageFile: GRmetrics_1.18.0.zip PackageFileSize: 1.658 MiB