Package: GRmetrics Version: 1.18.0 Command: /Library/Frameworks/R.framework/Versions/Current/Resources/bin/R CMD check --install=check:GRmetrics.install-out.txt --library=/Library/Frameworks/R.framework/Versions/Current/Resources/library --no-vignettes --timings GRmetrics_1.18.0.tar.gz StartedAt: 2021-10-14 19:46:53 -0400 (Thu, 14 Oct 2021) EndedAt: 2021-10-14 19:50:09 -0400 (Thu, 14 Oct 2021) EllapsedTime: 196.2 seconds RetCode: 0 Status: OK CheckDir: GRmetrics.Rcheck Warnings: 0