Package: GRmetrics Version: 1.18.0 Command: rm -rf GRmetrics.buildbin-libdir && mkdir GRmetrics.buildbin-libdir && /Users/biocbuild/BBS/utils/build-universal.sh GRmetrics_1.18.0.tar.gz /Library/Frameworks/R.framework/Versions/Current/Resources/bin/R GRmetrics.buildbin-libdir StartedAt: 2021-10-15 02:39:21 -0400 (Fri, 15 Oct 2021) EndedAt: 2021-10-15 02:40:19 -0400 (Fri, 15 Oct 2021) EllapsedTime: 58.1 seconds RetCode: 0 Status: OK PackageFile: GRmetrics_1.18.0.tgz PackageFileSize: 1.906 MiB