git_url: https://git.bioconductor.org/packages/GOsummaries git_branch: RELEASE_3_13 git_last_commit: 6b27e45 git_last_commit_date: 2021-05-19 12:07:27 -0400 (Wed, 19 May 2021) Package: GOsummaries Version: 2.28.0 Maintainer: Raivo Kolde MaintainerEmail: raivo.kolde at eesti.ee