Package: GOpro Version: 1.18.0 Command: /home/biocbuild/bbs-3.13-bioc/R/bin/R CMD check --install=check:GOpro.install-out.txt --library=/home/biocbuild/bbs-3.13-bioc/R/library --no-vignettes --timings GOpro_1.18.0.tar.gz StartedAt: 2021-10-14 10:03:19 -0400 (Thu, 14 Oct 2021) EndedAt: 2021-10-14 10:06:08 -0400 (Thu, 14 Oct 2021) EllapsedTime: 169.2 seconds RetCode: 0 Status: WARNINGS CheckDir: GOpro.Rcheck Warnings: 1