Package: GOpro Version: 1.18.0 Command: /Library/Frameworks/R.framework/Versions/Current/Resources/bin/R CMD INSTALL GOpro StartedAt: 2021-10-14 09:33:56 -0400 (Thu, 14 Oct 2021) EndedAt: 2021-10-14 09:34:50 -0400 (Thu, 14 Oct 2021) EllapsedTime: 53.8 seconds RetCode: 0 Status: OK