Package: GOpro Version: 1.18.0 Command: /Library/Frameworks/R.framework/Versions/Current/Resources/bin/R CMD build --keep-empty-dirs --no-resave-data GOpro StartedAt: 2021-10-14 12:22:21 -0400 (Thu, 14 Oct 2021) EndedAt: 2021-10-14 12:23:38 -0400 (Thu, 14 Oct 2021) EllapsedTime: 76.8 seconds RetCode: 0 Status: OK PackageFile: GOpro_1.18.0.tar.gz PackageFileSize: 1.249 MiB