git_url: https://git.bioconductor.org/packages/GOpro git_branch: RELEASE_3_13 git_last_commit: b5688fa git_last_commit_date: 2021-05-19 12:23:21 -0400 (Wed, 19 May 2021) Package: GOpro Version: 1.18.0 Maintainer: Lidia Chrabaszcz MaintainerEmail: chrabaszcz.lidia at gmail.com