Package: GOSim Version: 1.30.0 Command: C:\cygwin\bin\curl.exe -O http://155.52.207.165/BBS/3.13/bioc/src/contrib/GOSim_1.30.0.tar.gz && rm -rf GOSim.buildbin-libdir && mkdir GOSim.buildbin-libdir && C:\Users\biocbuild\bbs-3.13-bioc\R\bin\R.exe CMD INSTALL --merge-multiarch --build --library=GOSim.buildbin-libdir GOSim_1.30.0.tar.gz && C:\Users\biocbuild\bbs-3.13-bioc\R\bin\R.exe CMD INSTALL GOSim_1.30.0.zip && rm GOSim_1.30.0.tar.gz GOSim_1.30.0.zip StartedAt: 2021-10-14 09:10:50 -0400 (Thu, 14 Oct 2021) EndedAt: 2021-10-14 09:12:37 -0400 (Thu, 14 Oct 2021) EllapsedTime: 107.6 seconds RetCode: 0 Status: OK