Package: GOSim Version: 1.30.0 Command: chmod a+r GOSim -R && C:\Users\biocbuild\bbs-3.13-bioc\R\bin\R.exe CMD build --keep-empty-dirs --no-resave-data GOSim StartedAt: 2021-10-14 14:36:47 -0400 (Thu, 14 Oct 2021) EndedAt: 2021-10-14 14:38:10 -0400 (Thu, 14 Oct 2021) EllapsedTime: 82.9 seconds RetCode: 0 Status: OK PackageFile: GOSim_1.30.0.tar.gz PackageFileSize: 431.1 KiB