git_url: https://git.bioconductor.org/packages/GMRP git_branch: RELEASE_3_13 git_last_commit: bfb1e34 git_last_commit_date: 2021-05-19 12:36:23 -0400 (Wed, 19 May 2021) Package: GMRP Version: 1.20.0 Maintainer: Yuan-De Tan MaintainerEmail: tanyuande at gmail.com