Package: GLAD Version: 2.56.0 Command: /Library/Frameworks/R.framework/Versions/Current/Resources/bin/R CMD build --keep-empty-dirs --no-resave-data GLAD StartedAt: 2021-10-14 12:19:29 -0400 (Thu, 14 Oct 2021) EndedAt: 2021-10-14 12:19:56 -0400 (Thu, 14 Oct 2021) EllapsedTime: 27.0 seconds RetCode: 0 Status: OK PackageFile: GLAD_2.56.0.tar.gz PackageFileSize: 1.199 MiB