Package: GEWIST Version: 1.36.0 Command: C:\cygwin\bin\curl.exe -O http://155.52.207.165/BBS/3.13/bioc/src/contrib/GEWIST_1.36.0.tar.gz && rm -rf GEWIST.buildbin-libdir && mkdir GEWIST.buildbin-libdir && C:\Users\biocbuild\bbs-3.13-bioc\R\bin\R.exe CMD INSTALL --merge-multiarch --build --library=GEWIST.buildbin-libdir GEWIST_1.36.0.tar.gz && C:\Users\biocbuild\bbs-3.13-bioc\R\bin\R.exe CMD INSTALL GEWIST_1.36.0.zip && rm GEWIST_1.36.0.tar.gz GEWIST_1.36.0.zip StartedAt: 2021-10-14 09:51:56 -0400 (Thu, 14 Oct 2021) EndedAt: 2021-10-14 09:52:09 -0400 (Thu, 14 Oct 2021) EllapsedTime: 12.8 seconds RetCode: 0 Status: OK