Package: GEOsubmission Version: 1.44.0 Command: /home/biocbuild/bbs-3.13-bioc/R/bin/R CMD check --install=check:GEOsubmission.install-out.txt --library=/home/biocbuild/bbs-3.13-bioc/R/library --no-vignettes --timings GEOsubmission_1.44.0.tar.gz StartedAt: 2021-10-14 09:59:58 -0400 (Thu, 14 Oct 2021) EndedAt: 2021-10-14 10:00:20 -0400 (Thu, 14 Oct 2021) EllapsedTime: 22.3 seconds RetCode: 0 Status: OK CheckDir: GEOsubmission.Rcheck Warnings: 0