Package: GEOsubmission Version: 1.44.0 Command: /Library/Frameworks/R.framework/Versions/Current/Resources/bin/R CMD build --keep-empty-dirs --no-resave-data GEOsubmission StartedAt: 2021-10-14 12:18:07 -0400 (Thu, 14 Oct 2021) EndedAt: 2021-10-14 12:18:22 -0400 (Thu, 14 Oct 2021) EllapsedTime: 15.2 seconds RetCode: 0 Status: OK PackageFile: GEOsubmission_1.44.0.tar.gz PackageFileSize: 151.1 KiB