git_url: https://git.bioconductor.org/packages/GEOquery git_branch: RELEASE_3_13 git_last_commit: 028b84d git_last_commit_date: 2021-05-19 11:36:47 -0400 (Wed, 19 May 2021) Package: GEOquery Version: 2.60.0 Maintainer: Sean Davis MaintainerEmail: sdavis2 at mail.nih.gov