Package: GEM Version: 1.18.0 Command: chmod a+r GEM -R && C:\Users\biocbuild\bbs-3.13-bioc\R\bin\R.exe CMD build --keep-empty-dirs --no-resave-data GEM StartedAt: 2021-10-14 14:21:02 -0400 (Thu, 14 Oct 2021) EndedAt: 2021-10-14 14:21:58 -0400 (Thu, 14 Oct 2021) EllapsedTime: 55.8 seconds RetCode: 0 Status: OK PackageFile: GEM_1.18.0.tar.gz PackageFileSize: 414.7 KiB