Package: GEM Version: 1.18.0 Command: rm -rf GEM.buildbin-libdir && mkdir GEM.buildbin-libdir && C:\Users\biocbuild\bbs-3.13-bioc\R\bin\R.exe CMD INSTALL --merge-multiarch --build --library=GEM.buildbin-libdir GEM_1.18.0.tar.gz StartedAt: 2021-10-15 09:27:41 -0400 (Fri, 15 Oct 2021) EndedAt: 2021-10-15 09:28:57 -0400 (Fri, 15 Oct 2021) EllapsedTime: 76.4 seconds RetCode: 0 Status: OK PackageFile: GEM_1.18.0.zip PackageFileSize: 580 KiB