Package: GARS Version: 1.12.0 Command: /home/biocbuild/bbs-3.13-bioc/R/bin/R CMD build --keep-empty-dirs --no-resave-data GARS StartedAt: 2021-10-14 07:18:40 -0400 (Thu, 14 Oct 2021) EndedAt: 2021-10-14 07:20:27 -0400 (Thu, 14 Oct 2021) EllapsedTime: 106.4 seconds RetCode: 0 Status: OK PackageFile: GARS_1.12.0.tar.gz PackageFileSize: 428.7 KiB