Package: GAPGOM Version: 1.8.0 Command: C:\cygwin\bin\curl.exe -O http://155.52.207.165/BBS/3.13/bioc/src/contrib/GAPGOM_1.8.0.tar.gz && rm -rf GAPGOM.buildbin-libdir && mkdir GAPGOM.buildbin-libdir && C:\Users\biocbuild\bbs-3.13-bioc\R\bin\R.exe CMD INSTALL --merge-multiarch --build --library=GAPGOM.buildbin-libdir GAPGOM_1.8.0.tar.gz && C:\Users\biocbuild\bbs-3.13-bioc\R\bin\R.exe CMD INSTALL GAPGOM_1.8.0.zip && rm GAPGOM_1.8.0.tar.gz GAPGOM_1.8.0.zip StartedAt: 2021-10-14 09:52:16 -0400 (Thu, 14 Oct 2021) EndedAt: 2021-10-14 09:53:12 -0400 (Thu, 14 Oct 2021) EllapsedTime: 56.0 seconds RetCode: 0 Status: OK