Package: GAPGOM Version: 1.8.0 Command: rm -rf GAPGOM.buildbin-libdir && mkdir GAPGOM.buildbin-libdir && /Users/biocbuild/BBS/utils/build-universal.sh GAPGOM_1.8.0.tar.gz /Library/Frameworks/R.framework/Versions/Current/Resources/bin/R GAPGOM.buildbin-libdir StartedAt: 2021-10-15 02:28:44 -0400 (Fri, 15 Oct 2021) EndedAt: 2021-10-15 02:29:48 -0400 (Fri, 15 Oct 2021) EllapsedTime: 64.4 seconds RetCode: 0 Status: OK PackageFile: GAPGOM_1.8.0.tgz PackageFileSize: 2.267 MiB