Package: GA4GHshiny Version: 1.14.0 Command: /home/biocbuild/bbs-3.13-bioc/R/bin/R CMD INSTALL GA4GHshiny StartedAt: 2021-10-14 06:27:52 -0400 (Thu, 14 Oct 2021) EndedAt: 2021-10-14 06:28:27 -0400 (Thu, 14 Oct 2021) EllapsedTime: 34.8 seconds RetCode: 0 Status: OK