Package: GA4GHshiny Version: 1.14.0 Command: /home/biocbuild/bbs-3.13-bioc/R/bin/R CMD build --keep-empty-dirs --no-resave-data GA4GHshiny StartedAt: 2021-10-14 07:17:59 -0400 (Thu, 14 Oct 2021) EndedAt: 2021-10-14 07:18:36 -0400 (Thu, 14 Oct 2021) EllapsedTime: 37.0 seconds RetCode: 0 Status: OK PackageFile: GA4GHshiny_1.14.0.tar.gz PackageFileSize: 283.9 KiB