Package: GA4GHshiny Version: 1.14.0 Command: /Library/Frameworks/R.framework/Versions/Current/Resources/bin/R CMD INSTALL GA4GHshiny StartedAt: 2021-10-14 10:07:32 -0400 (Thu, 14 Oct 2021) EndedAt: 2021-10-14 10:08:24 -0400 (Thu, 14 Oct 2021) EllapsedTime: 52.3 seconds RetCode: 0 Status: OK