Package: GA4GHshiny Version: 1.14.0 Command: /Library/Frameworks/R.framework/Versions/Current/Resources/bin/R CMD build --keep-empty-dirs --no-resave-data GA4GHshiny StartedAt: 2021-10-14 12:09:54 -0400 (Thu, 14 Oct 2021) EndedAt: 2021-10-14 12:10:41 -0400 (Thu, 14 Oct 2021) EllapsedTime: 47.5 seconds RetCode: 0 Status: OK PackageFile: GA4GHshiny_1.14.0.tar.gz PackageFileSize: 283.8 KiB