Package: GA4GHshiny Version: 1.14.0 Command: rm -rf GA4GHshiny.buildbin-libdir && mkdir GA4GHshiny.buildbin-libdir && /Users/biocbuild/BBS/utils/build-universal.sh GA4GHshiny_1.14.0.tar.gz /Library/Frameworks/R.framework/Versions/Current/Resources/bin/R GA4GHshiny.buildbin-libdir StartedAt: 2021-10-15 02:28:18 -0400 (Fri, 15 Oct 2021) EndedAt: 2021-10-15 02:29:16 -0400 (Fri, 15 Oct 2021) EllapsedTime: 58.3 seconds RetCode: 0 Status: OK PackageFile: GA4GHshiny_1.14.0.tgz PackageFileSize: 456.3 KiB