Package: GA4GHclient Version: 1.16.0 Command: /home/biocbuild/bbs-3.13-bioc/R/bin/R CMD build --keep-empty-dirs --no-resave-data GA4GHclient StartedAt: 2021-10-14 07:17:57 -0400 (Thu, 14 Oct 2021) EndedAt: 2021-10-14 07:19:04 -0400 (Thu, 14 Oct 2021) EllapsedTime: 66.9 seconds RetCode: 0 Status: OK PackageFile: GA4GHclient_1.16.0.tar.gz PackageFileSize: 682.4 KiB