Package: FlowSOM Version: 2.0.0 Command: C:\cygwin\bin\curl.exe -O http://155.52.207.165/BBS/3.13/bioc/src/contrib/FlowSOM_2.0.0.tar.gz && rm -rf FlowSOM.buildbin-libdir && mkdir FlowSOM.buildbin-libdir && C:\Users\biocbuild\bbs-3.13-bioc\R\bin\R.exe CMD INSTALL --merge-multiarch --build --library=FlowSOM.buildbin-libdir FlowSOM_2.0.0.tar.gz && C:\Users\biocbuild\bbs-3.13-bioc\R\bin\R.exe CMD INSTALL FlowSOM_2.0.0.zip && rm FlowSOM_2.0.0.tar.gz FlowSOM_2.0.0.zip StartedAt: 2021-10-14 11:24:45 -0400 (Thu, 14 Oct 2021) EndedAt: 2021-10-14 11:25:33 -0400 (Thu, 14 Oct 2021) EllapsedTime: 48.4 seconds RetCode: 0 Status: OK