Package: FlowSOM Version: 2.0.0 Command: rm -rf FlowSOM.buildbin-libdir && mkdir FlowSOM.buildbin-libdir && C:\Users\biocbuild\bbs-3.13-bioc\R\bin\R.exe CMD INSTALL --merge-multiarch --build --library=FlowSOM.buildbin-libdir FlowSOM_2.0.0.tar.gz StartedAt: 2021-10-15 09:21:45 -0400 (Fri, 15 Oct 2021) EndedAt: 2021-10-15 09:23:20 -0400 (Fri, 15 Oct 2021) EllapsedTime: 95.4 seconds RetCode: 0 Status: OK PackageFile: FlowSOM_2.0.0.zip PackageFileSize: 6.231 MiB