############################################################################## ############################################################################## ### ### Running command: ### ### /Library/Frameworks/R.framework/Versions/Current/Resources/bin/R CMD INSTALL FlowRepositoryR ### ############################################################################## ############################################################################## * installing to library ‘/Library/Frameworks/R.framework/Versions/4.1/Resources/library’ * installing *source* package ‘FlowRepositoryR’ ... ** using staged installation ** R Error in .install_package_code_files(".", instdir) : files in '/Users/biocbuild/bbs-3.13-bioc/meat/FlowRepositoryR/R' missing from 'Collate' field: zzz.R ERROR: unable to collate and parse R files for package ‘FlowRepositoryR’ * removing ‘/Library/Frameworks/R.framework/Versions/4.1/Resources/library/FlowRepositoryR’