Package: FlowRepositoryR Version: 1.24.0 Command: /Library/Frameworks/R.framework/Versions/Current/Resources/bin/R CMD build --keep-empty-dirs --no-resave-data FlowRepositoryR StartedAt: 2021-10-14 12:07:48 -0400 (Thu, 14 Oct 2021) EndedAt: 2021-10-14 12:08:32 -0400 (Thu, 14 Oct 2021) EllapsedTime: 43.8 seconds RetCode: 1 Status: ERROR PackageFile: None PackageFileSize: NA