Package: FitHiC Version: 1.18.0 Command: /home/biocbuild/bbs-3.13-bioc/R/bin/R CMD check --install=check:FitHiC.install-out.txt --library=/home/biocbuild/bbs-3.13-bioc/R/library --no-vignettes --timings FitHiC_1.18.0.tar.gz StartedAt: 2021-10-14 09:50:30 -0400 (Thu, 14 Oct 2021) EndedAt: 2021-10-14 09:52:33 -0400 (Thu, 14 Oct 2021) EllapsedTime: 123.2 seconds RetCode: 0 Status: OK CheckDir: FitHiC.Rcheck Warnings: 0