Package: FamAgg Version: 1.20.0 Command: C:\cygwin\bin\curl.exe -O http://155.52.207.165/BBS/3.13/bioc/src/contrib/FamAgg_1.20.0.tar.gz && rm -rf FamAgg.buildbin-libdir && mkdir FamAgg.buildbin-libdir && C:\Users\biocbuild\bbs-3.13-bioc\R\bin\R.exe CMD INSTALL --merge-multiarch --build --library=FamAgg.buildbin-libdir FamAgg_1.20.0.tar.gz && C:\Users\biocbuild\bbs-3.13-bioc\R\bin\R.exe CMD INSTALL FamAgg_1.20.0.zip && rm FamAgg_1.20.0.tar.gz FamAgg_1.20.0.zip StartedAt: 2021-10-14 07:26:17 -0400 (Thu, 14 Oct 2021) EndedAt: 2021-10-14 07:28:34 -0400 (Thu, 14 Oct 2021) EllapsedTime: 137.0 seconds RetCode: 0 Status: OK