git_url: https://git.bioconductor.org/packages/FRGEpistasis git_branch: RELEASE_3_13 git_last_commit: ed89200 git_last_commit_date: 2021-05-19 12:04:13 -0400 (Wed, 19 May 2021) Package: FRGEpistasis Version: 1.28.0 Maintainer: Futao Zhang MaintainerEmail: futoaz at gmail.com