Package: FISHalyseR Version: 1.26.0 Command: /home/biocbuild/bbs-3.13-bioc/R/bin/R CMD build --keep-empty-dirs --no-resave-data FISHalyseR StartedAt: 2021-10-14 07:16:10 -0400 (Thu, 14 Oct 2021) EndedAt: 2021-10-14 07:16:25 -0400 (Thu, 14 Oct 2021) EllapsedTime: 14.5 seconds RetCode: 0 Status: OK PackageFile: FISHalyseR_1.26.0.tar.gz PackageFileSize: 778.7 KiB