Package: FISHalyseR Version: 1.26.0 Command: rm -rf FISHalyseR.buildbin-libdir && mkdir FISHalyseR.buildbin-libdir && /Users/biocbuild/BBS/utils/build-universal.sh FISHalyseR_1.26.0.tar.gz /Library/Frameworks/R.framework/Versions/Current/Resources/bin/R FISHalyseR.buildbin-libdir StartedAt: 2021-10-15 02:24:04 -0400 (Fri, 15 Oct 2021) EndedAt: 2021-10-15 02:25:08 -0400 (Fri, 15 Oct 2021) EllapsedTime: 63.8 seconds RetCode: 0 Status: OK PackageFile: FISHalyseR_1.26.0.tgz PackageFileSize: 827.9 KiB