git_url: https://git.bioconductor.org/packages/FISHalyseR git_branch: RELEASE_3_13 git_last_commit: 1ac9d07 git_last_commit_date: 2021-05-19 12:12:39 -0400 (Wed, 19 May 2021) Package: FISHalyseR Version: 1.26.0 Maintainer: Karesh Arunakirinathan MaintainerEmail: akaresh88 at gmail.com