Package: FCBF Version: 2.0.0 Command: chmod a+r FCBF -R && C:\Users\biocbuild\bbs-3.13-bioc\R\bin\R.exe CMD build --keep-empty-dirs --no-resave-data FCBF StartedAt: 2021-10-14 14:06:07 -0400 (Thu, 14 Oct 2021) EndedAt: 2021-10-14 14:07:54 -0400 (Thu, 14 Oct 2021) EllapsedTime: 107.1 seconds RetCode: 0 Status: OK PackageFile: FCBF_2.0.0.tar.gz PackageFileSize: 2.912 MiB