Package: ExpressionAtlas Version: 1.20.0 Command: rm -rf ExpressionAtlas.buildbin-libdir && mkdir ExpressionAtlas.buildbin-libdir && C:\Users\biocbuild\bbs-3.13-bioc\R\bin\R.exe CMD INSTALL --merge-multiarch --build --library=ExpressionAtlas.buildbin-libdir ExpressionAtlas_1.20.0.tar.gz StartedAt: 2021-10-15 09:14:11 -0400 (Fri, 15 Oct 2021) EndedAt: 2021-10-15 09:16:31 -0400 (Fri, 15 Oct 2021) EllapsedTime: 139.2 seconds RetCode: 0 Status: OK PackageFile: ExpressionAtlas_1.20.0.zip PackageFileSize: 370 KiB