Package: ExperimentHubData Version: 1.18.0 Command: /Library/Frameworks/R.framework/Versions/Current/Resources/bin/R CMD build --keep-empty-dirs --no-resave-data ExperimentHubData StartedAt: 2021-10-14 12:00:41 -0400 (Thu, 14 Oct 2021) EndedAt: 2021-10-14 12:01:40 -0400 (Thu, 14 Oct 2021) EllapsedTime: 59.1 seconds RetCode: 0 Status: OK PackageFile: ExperimentHubData_1.18.0.tar.gz PackageFileSize: 227.4 KiB