Package: ExperimentHubData Version: 1.18.0 Command: rm -rf ExperimentHubData.buildbin-libdir && mkdir ExperimentHubData.buildbin-libdir && /Users/biocbuild/BBS/utils/build-universal.sh ExperimentHubData_1.18.0.tar.gz /Library/Frameworks/R.framework/Versions/Current/Resources/bin/R ExperimentHubData.buildbin-libdir StartedAt: 2021-10-15 02:21:33 -0400 (Fri, 15 Oct 2021) EndedAt: 2021-10-15 02:22:39 -0400 (Fri, 15 Oct 2021) EllapsedTime: 66.1 seconds RetCode: 0 Status: OK PackageFile: ExperimentHubData_1.18.0.tgz PackageFileSize: 518.4 KiB