Package: ExCluster Version: 1.10.0 Command: /home/biocbuild/bbs-3.13-bioc/R/bin/R CMD INSTALL ExCluster StartedAt: 2021-10-14 06:23:15 -0400 (Thu, 14 Oct 2021) EndedAt: 2021-10-14 06:23:42 -0400 (Thu, 14 Oct 2021) EllapsedTime: 26.5 seconds RetCode: 0 Status: OK