Package: ExCluster Version: 1.10.0 Command: /home/biocbuild/bbs-3.13-bioc/R/bin/R CMD check --install=check:ExCluster.install-out.txt --library=/home/biocbuild/bbs-3.13-bioc/R/library --no-vignettes --timings ExCluster_1.10.0.tar.gz StartedAt: 2021-10-14 09:47:46 -0400 (Thu, 14 Oct 2021) EndedAt: 2021-10-14 09:50:24 -0400 (Thu, 14 Oct 2021) EllapsedTime: 157.6 seconds RetCode: 0 Status: OK CheckDir: ExCluster.Rcheck Warnings: 0