Package: ExCluster Version: 1.10.0 Command: /home/biocbuild/bbs-3.13-bioc/R/bin/R CMD build --keep-empty-dirs --no-resave-data ExCluster StartedAt: 2021-10-14 07:14:08 -0400 (Thu, 14 Oct 2021) EndedAt: 2021-10-14 07:14:45 -0400 (Thu, 14 Oct 2021) EllapsedTime: 37.7 seconds RetCode: 0 Status: OK PackageFile: ExCluster_1.10.0.tar.gz PackageFileSize: 295 KiB